BEGIN:VCALENDAR
VERSION:2.0
PRODID:-//Intand Corporation//Tandem//EN
METHOD:PUBLISH
BEGIN:VEVENT
DTSTAMP:20260424T043153Z
DTSTART:20180708T233000Z
DTEND:20180709T013000Z
TRANSP:TRANSPARENT
PRIORITY:0
SUMMARY:KB - Cyclones Basketball (Leone)
LOCATION:KE Gym
DESCRIPTION:Groups:\nCyclones Basketball\n\nSchools:\nKellybrook Elementar
 y\n\nLocation:\nKE Gym\n\n
URL;VALUE=URI:http://liberty53.tandem.co/index.php?type=view&action=event&
 id=308466
CREATED:20180521T195234Z
LAST-MODIFIED:20180521T195234Z
UID:event-308466-liberty53@intand.com
END:VEVENT
END:VCALENDAR
