BEGIN:VCALENDAR
VERSION:2.0
PRODID:-//Intand Corporation//Tandem//EN
METHOD:PUBLISH
BEGIN:VEVENT
DTSTAMP:20260424T053556Z
DTSTART:20190402T210000Z
DTEND:20190402T233000Z
TRANSP:TRANSPARENT
PRIORITY:0
SUMMARY:LN 8 Track @ Pioneer Ridge
LOCATION:Pioneer Ridge Middle
DESCRIPTION:Groups:\nLNHS 8th Grade Track\n\nSchools:\nSouth Valley Middle
  School\nLiberty North High School\nHeritage Middle School\nPioneer Ridge 
 Middle\n\nLocation:\nPioneer Ridge Middle\n\n
URL;VALUE=URI:http://liberty53.tandem.co/index.php?type=view&action=event&
 id=308459
CREATED:20180521T195125Z
LAST-MODIFIED:20180521T195125Z
UID:event-308459-liberty53@intand.com
END:VEVENT
END:VCALENDAR
