BEGIN:VCALENDAR
VERSION:2.0
PRODID:-//Intand Corporation//Tandem//EN
METHOD:PUBLISH
BEGIN:VEVENT
DTSTAMP:20260424T040701Z
DTSTART:20181018T050000Z
DTEND:20181018T180000Z
TRANSP:TRANSPARENT
PRIORITY:0
SUMMARY:Fall Mixer Haunted House (Setup)
LOCATION:SVMS LGIR
DESCRIPTION:Setup for the Haunted House for Fall Mixer.\n\nGroups:\nSVMS S
 tudent Council\n\nSchools:\nSouth Valley Middle School\n\nLocation:\nSVMS 
 LGIR\n\n
URL;VALUE=URI:http://liberty53.tandem.co/index.php?type=view&action=event&
 id=307856
CREATED:20180518T020347Z
LAST-MODIFIED:20180522T210242Z
UID:event_request-307856-liberty53@intand.com
END:VEVENT
END:VCALENDAR
