BEGIN:VCALENDAR
VERSION:2.0
PRODID:-//Intand Corporation//Tandem//EN
METHOD:PUBLISH
BEGIN:VEVENT
DTSTAMP:20260424T055217Z
DTSTART:20181119T210000Z
DTEND:20181120T010000Z
TRANSP:TRANSPARENT
PRIORITY:0
SUMMARY:8th Basketball Game
LOCATION:DMS Gym
DESCRIPTION:Groups:\nDMS Staff\nLHS 8th Grade Girls Basketball\nLHS 8th Gr
 ade Boys Basketball\n\nSchools:\nLiberty Middle School\nLiberty High Schoo
 l\nDiscovery Middle School\n\nLocation:\nDMS Gym\n\n
URL;VALUE=URI:http://liberty53.tandem.co/index.php?type=view&action=event&
 id=307809
CREATED:20180517T185705Z
LAST-MODIFIED:20180517T185705Z
UID:event-307809-liberty53@intand.com
END:VEVENT
END:VCALENDAR
