BEGIN:VCALENDAR
VERSION:2.0
PRODID:-//Intand Corporation//Tandem//EN
METHOD:PUBLISH
BEGIN:VEVENT
DTSTAMP:20260424T041424Z
DTSTART:20181009T200000Z
DTEND:20181010T000000Z
TRANSP:TRANSPARENT
PRIORITY:0
SUMMARY:Battle for the Paddle Football
LOCATION:DMS Football Field
DESCRIPTION:Groups:\nDMS Staff\nLHS 8th Grade Football\n\nSchools:\nLibert
 y Middle School\nLiberty High School\nDiscovery Middle School\n\nLocation:
 \nDMS Football Field\n\n
URL;VALUE=URI:http://liberty53.tandem.co/index.php?type=view&action=event&
 id=307735
CREATED:20180517T182525Z
LAST-MODIFIED:20180517T182525Z
UID:event-307735-liberty53@intand.com
END:VEVENT
END:VCALENDAR
