BEGIN:VCALENDAR
VERSION:2.0
PRODID:-//Intand Corporation//Tandem//EN
METHOD:PUBLISH
BEGIN:VEVENT
DTSTAMP:20260424T055145Z
DTSTART:20180918T210000Z
DTEND:20180919T010000Z
TRANSP:TRANSPARENT
PRIORITY:0
SUMMARY:MS Honor Symphony Orchestra Auditions
LOCATION:LNHS Room 610E\, LNHS Room 612 Orchestra\, LNHS Room 617 VM-Large
 \, LNHS Room 613 VM-Small\, LNHS Room 616 Band
DESCRIPTION:Auditions for the 2018-2019 LPS Middle School Honor Symphony O
 rchestra\n\nSetup: 3:15 pm\nBreakdown: 8:30 pm\n\nSchools:\nSouth Valley M
 iddle School\nHeritage Middle School\nDiscovery Middle School\nLiberty Mid
 dle School\nLiberty North High School\n\nLocations:\nLNHS Room 610E\nLNHS 
 Room 612 Orchestra\nLNHS Room 617 VM-Large\nLNHS Room 613 VM-Small\nLNHS R
 oom 616 Band\n\n
URL;VALUE=URI:http://liberty53.tandem.co/index.php?type=view&action=event&
 id=307701
CREATED:20180517T161640Z
LAST-MODIFIED:20180904T161438Z
UID:event_request-307701-liberty53@intand.com
END:VEVENT
END:VCALENDAR
