BEGIN:VCALENDAR
VERSION:2.0
PRODID:-//Intand Corporation//Tandem//EN
METHOD:PUBLISH
BEGIN:VEVENT
DTSTAMP:20260424T053900Z
DTSTART:20180801T213000Z
DTEND:20180801T230000Z
TRANSP:TRANSPARENT
PRIORITY:0
SUMMARY:LHS- Wrestling Off Season Workouts
LOCATION:LHS Weight Room
DESCRIPTION:Groups:\nLHS Wrestling\n\nSchools:\nLiberty High School\n\nLoc
 ation:\nLHS Weight Room\n\n
URL;VALUE=URI:http://liberty53.tandem.co/index.php?type=view&action=event&
 id=307679
CREATED:20180516T192525Z
LAST-MODIFIED:20180516T192525Z
UID:event-307679-liberty53@intand.com
END:VEVENT
END:VCALENDAR
