BEGIN:VCALENDAR
VERSION:2.0
PRODID:-//Intand Corporation//Tandem//EN
METHOD:PUBLISH
BEGIN:VEVENT
DTSTAMP:20260424T061343Z
DTSTART:20180928T120000Z
DTEND:20180928T140000Z
TRANSP:TRANSPARENT
PRIORITY:0
SUMMARY:LNHS Band Practice
LOCATION:LNHS Activity Complex\, LNHS Room 616 Band
DESCRIPTION:Groups:\nLNHS Band\n\nSchools:\nLiberty North High School\n\nL
 ocations:\nLNHS Activity Complex\nLNHS Room 616 Band\n\n
URL;VALUE=URI:http://liberty53.tandem.co/index.php?type=view&action=event&
 id=307527
CREATED:20180515T194814Z
LAST-MODIFIED:20180516T015400Z
UID:event_request-307527-liberty53@intand.com
END:VEVENT
END:VCALENDAR
