BEGIN:VCALENDAR
VERSION:2.0
PRODID:-//Intand Corporation//Tandem//EN
METHOD:PUBLISH
BEGIN:VEVENT
DTSTAMP:20260424T023932Z
DTSTART:20180920T173000Z
DTEND:20180920T213000Z
TRANSP:TRANSPARENT
PRIORITY:0
SUMMARY:DMS Rehearsal
LOCATION:DMS Cafeteria
DESCRIPTION:Groups:\nDMS Drama\n\nSchools:\nDiscovery Middle School\n\nLoc
 ation:\nDMS Cafeteria\n\n
URL;VALUE=URI:http://liberty53.tandem.co/index.php?type=view&action=event&
 id=307493
CREATED:20180515T164655Z
LAST-MODIFIED:20180515T224510Z
UID:event_request-307493-liberty53@intand.com
END:VEVENT
END:VCALENDAR
