BEGIN:VCALENDAR
VERSION:2.0
PRODID:-//Intand Corporation//Tandem//EN
METHOD:PUBLISH
BEGIN:VEVENT
DTSTAMP:20260424T072635Z
DTSTART:20181130T000000Z
DTEND:20181130T013000Z
TRANSP:TRANSPARENT
PRIORITY:0
SUMMARY:EPiC Studio 2nd  & 3rd Music Performance - LPAT
LOCATION:Liberty Performing Arts Theatre
DESCRIPTION:Groups:\nEPiC Parent\nEPiC Staff\n\nSchools:\nEPiC Elementary\
 n\nLocation:\nLiberty Performing Arts Theatre\n\n
URL;VALUE=URI:http://liberty53.tandem.co/index.php?type=view&action=event&
 id=307403
CREATED:20180511T180036Z
LAST-MODIFIED:20180911T213745Z
UID:event_request-307403-liberty53@intand.com
END:VEVENT
END:VCALENDAR
