BEGIN:VCALENDAR
VERSION:2.0
PRODID:-//Intand Corporation//Tandem//EN
METHOD:PUBLISH
BEGIN:VEVENT
DTSTAMP:20260424T053315Z
DTSTART:20181103T130000Z
DTEND:20181104T010000Z
TRANSP:TRANSPARENT
PRIORITY:0
SUMMARY:LHS - School Athletic Usage
LOCATION:LHS Cokely Gym\, LHS Turf Practice Field\, LHS Turf Game Field\, 
 LHS Ball Diamond 3\, LHS Ball Diamond 1\, LHS Ball Diamond 2\, LHS Fieldho
 use Gym\, LHS Practice Football Field
DESCRIPTION:Groups:\nLHS Athletics\n\nSchools:\nLiberty High School\n\nLoc
 ations:\nLHS Cokely Gym\nLHS Turf Practice Field\nLHS Turf Game Field\nLHS
  Ball Diamond 3\nLHS Ball Diamond 1\nLHS Ball Diamond 2\nLHS Fieldhouse Gy
 m\nLHS Practice Football Field\n\n
URL;VALUE=URI:http://liberty53.tandem.co/index.php?type=view&action=event&
 id=307366
CREATED:20180511T165248Z
LAST-MODIFIED:20181009T183049Z
UID:event-307366-liberty53@intand.com
END:VEVENT
END:VCALENDAR
