BEGIN:VCALENDAR
VERSION:2.0
PRODID:-//Intand Corporation//Tandem//EN
METHOD:PUBLISH
BEGIN:VEVENT
DTSTAMP:20260424T040521Z
DTSTART:20181016T230000Z
DTEND:20181017T003000Z
TRANSP:TRANSPARENT
PRIORITY:0
SUMMARY:AD 2nd Grade Vocal Concert - Gym
LOCATION:Alexander Doniphan Elementary
DESCRIPTION:Groups:\nADE PTA\nADE Parent\nADE Staff\nADE Vocal Music\n\nSc
 hools:\nAlexander Doniphan Elementary\n\nLocation:\nAlexander Doniphan Ele
 mentary\n\n
URL;VALUE=URI:http://liberty53.tandem.co/index.php?type=view&action=event&
 id=307119
CREATED:20180511T145851Z
LAST-MODIFIED:20180511T150957Z
UID:event-307119-liberty53@intand.com
END:VEVENT
END:VCALENDAR
