BEGIN:VCALENDAR
VERSION:2.0
PRODID:-//Intand Corporation//Tandem//EN
METHOD:PUBLISH
BEGIN:VEVENT
DTSTAMP:20260424T033358Z
DTSTART:20190409T200000Z
DTEND:20190409T204500Z
TRANSP:TRANSPARENT
PRIORITY:0
SUMMARY:LMS-Intramural Basketball
LOCATION:LMS Gym
DESCRIPTION:Schools:\nLiberty Middle School\n\nLocation:\nLMS Gym\n\n
URL;VALUE=URI:http://liberty53.tandem.co/index.php?type=view&action=event&
 id=307016
CREATED:20180510T173948Z
LAST-MODIFIED:20180510T173948Z
UID:event-307016-liberty53@intand.com
END:VEVENT
END:VCALENDAR
