BEGIN:VCALENDAR
VERSION:2.0
PRODID:-//Intand Corporation//Tandem//EN
METHOD:PUBLISH
BEGIN:VEVENT
DTSTAMP:20260424T023334Z
DTSTART:20190225T230000Z
DTEND:20190226T010000Z
TRANSP:TRANSPARENT
PRIORITY:0
SUMMARY:PEAK NHD Showcase
LOCATION:SVMS LMC\, SVMS LGIR
DESCRIPTION:Groups:\nLMS Parent\nSVMS Peak\n\nSchools:\nLiberty Middle Sch
 ool\nSouth Valley Middle School\n\nLocations:\nSVMS LMC\nSVMS LGIR\n\n
URL;VALUE=URI:http://liberty53.tandem.co/index.php?type=view&action=event&
 id=306936
CREATED:20180509T145047Z
LAST-MODIFIED:20180509T192844Z
UID:event_request-306936-liberty53@intand.com
END:VEVENT
END:VCALENDAR
