BEGIN:VCALENDAR
VERSION:2.0
PRODID:-//Intand Corporation//Tandem//EN
METHOD:PUBLISH
BEGIN:VEVENT
DTSTAMP:20260424T054206Z
DTSTART:20190220T150000Z
DTEND:20190220T200000Z
TRANSP:TRANSPARENT
PRIORITY:0
SUMMARY:[Cancelled] LHS Vocal Pre-Contest Concert Dress Rehearsal
LOCATION:John Gano Memorial Chapel
DESCRIPTION:Groups:\nLHS Vocal Music\n\nSchools:\nLiberty High School\n\nL
 ocation:\nJohn Gano Memorial Chapel\n\nThe following LHS Choirs will parti
 cipate in this dress rehearsal: \n\nConcert Choir\, Women's Honor Choir\, 
 Mixed Chorale \n\nStudents will need to bring either: a) $8.00 for the Jew
 ell Buffet or b) a sack lunch. \n\n
URL;VALUE=URI:http://liberty53.tandem.co/index.php?type=view&action=event&
 id=306928
CREATED:20180509T141715Z
LAST-MODIFIED:20190220T154819Z
UID:event_request-306928-liberty53@intand.com
END:VEVENT
END:VCALENDAR
