BEGIN:VCALENDAR
VERSION:2.0
PRODID:-//Intand Corporation//Tandem//EN
METHOD:PUBLISH
BEGIN:VEVENT
DTSTAMP:20260424T055439Z
DTSTART:20180925T140000Z
DTEND:20180925T190000Z
TRANSP:TRANSPARENT
PRIORITY:0
SUMMARY:LHS Choir Fall Concert Chorale Dress Rehearsal
LOCATION:John Gano Memorial Chapel
DESCRIPTION:Groups:\nLHS Vocal Music\n\nSchools:\nLiberty High School\n\nL
 ocation:\nJohn Gano Memorial Chapel\n\nThe Men's\, Women's\, and Mixed Cho
 rales will travel to Gano Hall for their Fall Concert Dress Rehearsal. \n\
 nStudents will be required to either provide: a) $8.00 for the Jewell Buff
 et or b) a sack lunch. \n\n
URL;VALUE=URI:http://liberty53.tandem.co/index.php?type=view&action=event&
 id=306618
CREATED:20180504T152739Z
LAST-MODIFIED:20180711T195456Z
UID:event_request-306618-liberty53@intand.com
END:VEVENT
END:VCALENDAR
