BEGIN:VCALENDAR
VERSION:2.0
PRODID:-//Intand Corporation//Tandem//EN
METHOD:PUBLISH
BEGIN:VEVENT
DTSTAMP:20260424T055514Z
DTSTART:20180927T233000Z
DTEND:20180928T013000Z
TRANSP:TRANSPARENT
PRIORITY:0
SUMMARY:LHS Fall Choir Concert
LOCATION:John Gano Memorial Chapel
DESCRIPTION:Setup: 5:30 pm\nBreakdown: 9:00 pm\n\nGroups:\nLHS Vocal Music
 \n\nSchools:\nLiberty High School\n\nLocation:\nJohn Gano Memorial Chapel\
 n\nJoin us for the Fall LHS Choir Concerts! \n\n6:30pm --> Men's Chorale\,
  Women's Chorale\, Mixed Chorale \n7:30pm --> Concert Choir\, Women's Hono
 r Choir\, LHS Chamber Choir\n\n
URL;VALUE=URI:http://liberty53.tandem.co/index.php?type=view&action=event&
 id=306617
CREATED:20180504T152333Z
LAST-MODIFIED:20180711T195603Z
UID:event_request-306617-liberty53@intand.com
END:VEVENT
END:VCALENDAR
