BEGIN:VCALENDAR
VERSION:2.0
PRODID:-//Intand Corporation//Tandem//EN
METHOD:PUBLISH
BEGIN:VEVENT
DTSTAMP:20260424T024210Z
DTSTART:20190119T130000Z
DTEND:20190120T020000Z
TRANSP:TRANSPARENT
PRIORITY:0
SUMMARY:LNHS Speech and Debate tournament
LOCATION:LNHS Room 923\, LNHS Room 324\, LNHS Room 417 - The Eagle Room\, 
 LNHS Room 804\, LNHS Room 524\, LNHS Room 929\, LNHS Room 711\, LNHS Room 
 415 - Sports Marketing\, LNHS Learning Stairs\, LNHS Room 912\, LNHS Room 
 907\, LNHS Room 717\, LN
DESCRIPTION:Groups:\nLNHS Speech / Debate\n\nSchools:\nLiberty North High 
 School\n\nLocations:\nLNHS Room 923\nLNHS Room 324\nLNHS Room 417 - The Ea
 gle Room\nLNHS Room 804\nLNHS Room 524\nLNHS Room 929\nLNHS Room 711\nLNHS
  Room 415 - Sports Marketing\nLNHS Learning Stairs\nLNHS Room 912\nLNHS Ro
 om 907\nLNHS Room 717\nLNHS Room 707\nLNHS Room 815\nLNHS Room 807\nLNHS G
 lass Hallway-Second Floor\nLNHS Room 520\nLNHS Room 810\nLNHS Room 322\nLN
 HS Room 925\nLNHS Room 914\nLNHS Room 522\nLNHS Room 926\nLNHS Room 816\nL
 NHS Room 822\nLNHS Room 920\nLNHS Cafeteria (GH HVAC)\nLNHS Room 326\nLNHS
  Room 610E\nLNHS Room 514\nLNHS Room 932\nLNHS Room 330\nLNHS Room 208\nLN
 HS Room 812\nLNHS Room 803\nLNHS Room 922\nLNHS Room 934\nLNHS Room 933\nL
 NHS Room 928\nLNHS Room 905\nLNHS Room 612 Orchestra\nLNHS Rm 106\nLNHS Ro
 om 110\nLNHS Room 817\nLNHS Room 515\nLNHS Room 607 Black Box Theater\nLNH
 S Room 910\nLNHS Room 904\nLNHS Room 927\nLNHS Room 719\nLNHS Room 919\nLN
 HS Room 712\nLNHS Great Hall\nLNHS Room 806\nLNHS Room 608\nLNHS Room 617 
 VM-Large\nLNHS Room 613 VM-Small\nLNHS Room 429\nLNHS Room 107\nLNHS Room 
 305 - Broadcast Studio\nLNHS Room 332\nLNHS Room 510\nLNHS Room 808\nLNHS 
 LMC - 200\nLNHS Room 616 Band\nLNHS Room 921\nLNHS Room 805\nLNHS Room 820
 \nLNHS Room 930\nLNHS Room 318\nLNHS Room 924\nLNHS 929A - PLP\nLNHS Eagle
 's Nest\nLNHS Room 516\nLNHS Room 931\nLNHS Room 609\nLNHS Glass Hallway-F
 irst Floor\n\n
URL;VALUE=URI:http://liberty53.tandem.co/index.php?type=view&action=event&
 id=306279
CREATED:20180501T131305Z
LAST-MODIFIED:20180501T131734Z
UID:event_request-306279-liberty53@intand.com
END:VEVENT
END:VCALENDAR
