BEGIN:VCALENDAR
VERSION:2.0
PRODID:-//Intand Corporation//Tandem//EN
METHOD:PUBLISH
BEGIN:VEVENT
DTSTAMP:20260424T074023Z
DTSTART:20190118T210000Z
DTEND:20190119T043000Z
TRANSP:TRANSPARENT
PRIORITY:0
SUMMARY:LNHS Speech and Debate tournament
LOCATION:LNHS Glass Hallway-Second Floor\, LNHS Glass Hallway-First Floor\
 , LNHS Room 429\, LNHS Room 515\, LNHS Room 610E\, LNHS 929A - PLP\, LNHS 
 Eagle's Nest\, LNHS Learning Stairs\, LNHS Room 332\, LNHS Room 330\, LNHS
  Room 326\, LNHS Room 32
DESCRIPTION:Groups:\nLNHS Speech / Debate\n\nSchools:\nLiberty North High 
 School\n\nLocations:\nLNHS Glass Hallway-Second Floor\nLNHS Glass Hallway-
 First Floor\nLNHS Room 429\nLNHS Room 515\nLNHS Room 610E\nLNHS 929A - PLP
 \nLNHS Eagle's Nest\nLNHS Learning Stairs\nLNHS Room 332\nLNHS Room 330\nL
 NHS Room 326\nLNHS Room 324\nLNHS Room 322\nLNHS Room 318\nLNHS Room 934\n
 LNHS Room 933\nLNHS Room 932\nLNHS Room 931\nLNHS Room 930\nLNHS Room 929\
 nLNHS Room 928\nLNHS Room 927\nLNHS Room 926\nLNHS Room 925\nLNHS Room 924
 \nLNHS Room 923\nLNHS Room 922\nLNHS Room 921\nLNHS Room 920\nLNHS Room 91
 9\nLNHS Room 719\nLNHS Room 717\nLNHS Room 712\nLNHS Rm 106\nLNHS Room 305
  - Broadcast Studio\nLNHS Room 415 - Sports Marketing\nLNHS Room 417 - The
  Eagle Room\nLNHS Room 910\nLNHS Room 806\nLNHS Room 804\nLNHS Room 803\nL
 NHS Room 107\nLNHS Room 522\nLNHS Room 524\nLNHS Room 617 VM-Large\nLNHS R
 oom 616 Band\nLNHS Room 613 VM-Small\nLNHS Great Hall\nLNHS Room 110\nLNHS
  Room 904\nLNHS Room 914\nLNHS Room 912\nLNHS Room 907\nLNHS Room 905\nLNH
 S Room 707\nLNHS Cafeteria (GH HVAC)\nLNHS Room 607 Black Box Theater\nLNH
 S Room 822\nLNHS Room 820\nLNHS Room 817\nLNHS Room 816\nLNHS Room 815\nLN
 HS Room 812\nLNHS Room 810\nLNHS Room 808\nLNHS Room 807\nLNHS Room 805\nL
 NHS Room 510\nLNHS Room 514\nLNHS Room 516\nLNHS Room 520\nLNHS Room 208\n
 LNHS LMC - 200\nLNHS Room 711\nLNHS Room 609\nLNHS Room 608\nLNHS Room 612
  Orchestra\n\n
URL;VALUE=URI:http://liberty53.tandem.co/index.php?type=view&action=event&
 id=306278
CREATED:20180501T131305Z
LAST-MODIFIED:20180501T131343Z
UID:event_request-306278-liberty53@intand.com
END:VEVENT
END:VCALENDAR
