BEGIN:VCALENDAR
VERSION:2.0
PRODID:-//Intand Corporation//Tandem//EN
METHOD:PUBLISH
BEGIN:VEVENT
DTSTAMP:20260424T023151Z
DTSTART:20181117T010000Z
DTEND:20181117T040000Z
TRANSP:TRANSPARENT
PRIORITY:0
SUMMARY:LNHS Guys and Dolls Performance
LOCATION:LNHS Performing Arts Theater (GH HVAC)
DESCRIPTION:Setup: 4:00 pm\nBreakdown: 10:30 pm\n\nGroups:\nLNHS Theater\n
 \nSchools:\nLiberty North High School\n\nLocation:\nLNHS Performing Arts T
 heater (GH HVAC)\n\n
URL;VALUE=URI:http://liberty53.tandem.co/index.php?type=view&action=event&
 id=305885
CREATED:20180425T163111Z
LAST-MODIFIED:20181106T174525Z
UID:event_request-305885-liberty53@intand.com
END:VEVENT
END:VCALENDAR
