BEGIN:VCALENDAR
VERSION:2.0
PRODID:-//Intand Corporation//Tandem//EN
METHOD:PUBLISH
BEGIN:VEVENT
DTSTAMP:20260424T055333Z
DTSTART:20190117T220000Z
DTEND:20190118T003000Z
TRANSP:TRANSPARENT
PRIORITY:0
SUMMARY:LN 8 BB @ Summit Lakes
LOCATION:Summit Lakes Middle
DESCRIPTION:Groups:\nLNHS 8th Grade Boys Basketball\n\nSchools:\nHeritage 
 Middle School\nLiberty North High School\nSouth Valley Middle School\nSumm
 it Lakes Middle\n\nLocation:\nSummit Lakes Middle\n\n
URL;VALUE=URI:http://liberty53.tandem.co/index.php?type=view&action=event&
 id=305790
CREATED:20180425T144222Z
LAST-MODIFIED:20180718T225258Z
UID:event-305790-liberty53@intand.com
END:VEVENT
END:VCALENDAR
