BEGIN:VCALENDAR
VERSION:2.0
PRODID:-//Intand Corporation//Tandem//EN
METHOD:PUBLISH
BEGIN:VEVENT
DTSTAMP:20260424T054405Z
DTSTART:20181211T220000Z
DTEND:20181212T003000Z
TRANSP:TRANSPARENT
PRIORITY:0
SUMMARY:LN 8 GB @ Platte County
LOCATION:Platte County High
DESCRIPTION:Groups:\nLNHS 8th Grade Girls Basketball\n\nSchools:\nLiberty 
 North High School\nSouth Valley Middle School\nHeritage Middle School\nPla
 tte County High\n\nLocation:\nPlatte County High\n\n
URL;VALUE=URI:http://liberty53.tandem.co/index.php?type=view&action=event&
 id=305787
CREATED:20180425T143818Z
LAST-MODIFIED:20180425T143818Z
UID:event-305787-liberty53@intand.com
END:VEVENT
END:VCALENDAR
