BEGIN:VCALENDAR
VERSION:2.0
PRODID:-//Intand Corporation//Tandem//EN
METHOD:PUBLISH
BEGIN:VEVENT
DTSTAMP:20260424T061556Z
DTSTART:20181129T220000Z
DTEND:20181130T003000Z
TRANSP:TRANSPARENT
PRIORITY:0
SUMMARY:LN 8 BB @ Congress
LOCATION:Congress Middle
DESCRIPTION:Groups:\nLNHS 8th Grade Boys Basketball\n\nSchools:\nLiberty N
 orth High School\nSouth Valley Middle School\nHeritage Middle School\nCong
 ress Middle\n\nLocation:\nCongress Middle\n\n
URL;VALUE=URI:http://liberty53.tandem.co/index.php?type=view&action=event&
 id=305778
CREATED:20180425T143255Z
LAST-MODIFIED:20180425T143255Z
UID:event-305778-liberty53@intand.com
END:VEVENT
END:VCALENDAR
