BEGIN:VCALENDAR
VERSION:2.0
PRODID:-//Intand Corporation//Tandem//EN
METHOD:PUBLISH
BEGIN:VEVENT
DTSTAMP:20260424T043935Z
DTSTART:20181203T220000Z
DTEND:20181204T010000Z
TRANSP:TRANSPARENT
PRIORITY:0
SUMMARY:LN 7/8 Wrestling @ Kearney
LOCATION:Kearney Middle School
DESCRIPTION:Groups:\nLNHS 8th Grade Wrestling\n\nSchools:\nHeritage Middle
  School\nLiberty North High School\nSouth Valley Middle School\n\nLocation
 :\nKearney Middle School\n\n
URL;VALUE=URI:http://liberty53.tandem.co/index.php?type=view&action=event&
 id=305766
CREATED:20180425T135205Z
LAST-MODIFIED:20180523T130558Z
UID:event-305766-liberty53@intand.com
END:VEVENT
END:VCALENDAR
