BEGIN:VCALENDAR
VERSION:2.0
PRODID:-//Intand Corporation//Tandem//EN
METHOD:PUBLISH
BEGIN:VEVENT
DTSTAMP:20260424T092259Z
DTSTART:20180808T132500Z
DTEND:20180808T200000Z
TRANSP:TRANSPARENT
PRIORITY:0
SUMMARY:EPiC - 1st Day of School
LOCATION:EPiC Elementary
DESCRIPTION:Groups:\nEPiC Staff\n\nSchools:\nEPiC Elementary\n\nLocation:\
 nEPiC Elementary\n\n
URL;VALUE=URI:http://liberty53.tandem.co/index.php?type=view&action=event&
 id=305748
CREATED:20180424T190339Z
LAST-MODIFIED:20180720T151314Z
UID:event-305748-liberty53@intand.com
END:VEVENT
END:VCALENDAR
