BEGIN:VCALENDAR
VERSION:2.0
PRODID:-//Intand Corporation//Tandem//EN
METHOD:PUBLISH
BEGIN:VEVENT
DTSTAMP:20260424T053529Z
DTSTART:20181005T210000Z
DTEND:20181005T230000Z
TRANSP:TRANSPARENT
PRIORITY:0
SUMMARY:LN 7/8 CC Meet @ SVMS
LOCATION:South Valley Middle School
DESCRIPTION:Groups:\nLNHS 8th Grade Cross Country\n\nSchools:\nLiberty Nor
 th High School\nHeritage Middle School\nSouth Valley Middle School\n\nLoca
 tion:\nSouth Valley Middle School\n\n
URL;VALUE=URI:http://liberty53.tandem.co/index.php?type=view&action=event&
 id=305559
CREATED:20180423T145525Z
LAST-MODIFIED:20180423T145525Z
UID:event-305559-liberty53@intand.com
END:VEVENT
END:VCALENDAR
