BEGIN:VCALENDAR
VERSION:2.0
PRODID:-//Intand Corporation//Tandem//EN
METHOD:PUBLISH
BEGIN:VEVENT
DTSTAMP:20260424T061347Z
DTSTART:20181003T210000Z
DTEND:20181003T230000Z
TRANSP:TRANSPARENT
PRIORITY:0
SUMMARY:LN 7/8 CC Meet @ Ray Pec East
LOCATION:Raymore-Peculiar East Middle School
DESCRIPTION:Groups:\nLNHS 8th Grade Cross Country\n\nSchools:\nSouth Valle
 y Middle School\nLiberty North High School\nHeritage Middle School\n\nLoca
 tion:\nRaymore-Peculiar East Middle School\n\n
URL;VALUE=URI:http://liberty53.tandem.co/index.php?type=view&action=event&
 id=305558
CREATED:20180423T145406Z
LAST-MODIFIED:20180423T145406Z
UID:event-305558-liberty53@intand.com
END:VEVENT
END:VCALENDAR
