BEGIN:VCALENDAR
VERSION:2.0
PRODID:-//Intand Corporation//Tandem//EN
METHOD:PUBLISH
BEGIN:VEVENT
DTSTAMP:20260424T023710Z
DTSTART:20181125T200000Z
DTEND:20181126T000000Z
TRANSP:TRANSPARENT
PRIORITY:0
SUMMARY:[Cancelled] LN Youth VB Club
LOCATION:HMS North Gym\, HMS South Gym
DESCRIPTION:Schools:\nHeritage Middle School\nLiberty North High School\n\
 nLocations:\nHMS North Gym\nHMS South Gym\n\n
URL;VALUE=URI:http://liberty53.tandem.co/index.php?type=view&action=event&
 id=305527
CREATED:20180423T143255Z
LAST-MODIFIED:20181126T171350Z
UID:event_request-305527-liberty53@intand.com
END:VEVENT
END:VCALENDAR
