BEGIN:VCALENDAR
VERSION:2.0
PRODID:-//Intand Corporation//Tandem//EN
METHOD:PUBLISH
BEGIN:VEVENT
DTSTAMP:20260424T024137Z
DTSTART:20181214T190000Z
DTEND:20181214T210000Z
TRANSP:TRANSPARENT
PRIORITY:0
SUMMARY:[Cancelled] DAC 3-Executive Conference Room-COO Meeting
LOCATION:DAC 3-Executive Conference Room
DESCRIPTION:Groups:\nDAC Chief Operations Officer\n\nSchools:\nDistrict Ad
 ministration Center\n\nLocation:\nDAC 3-Executive Conference Room\n\n
URL;VALUE=URI:http://liberty53.tandem.co/index.php?type=view&action=event&
 id=305373
CREATED:20180417T200336Z
LAST-MODIFIED:20180702T124356Z
UID:event-305373-liberty53@intand.com
END:VEVENT
END:VCALENDAR
