BEGIN:VCALENDAR
VERSION:2.0
PRODID:-//Intand Corporation//Tandem//EN
METHOD:PUBLISH
BEGIN:VEVENT
DTSTAMP:20260424T055236Z
DTSTART:20190610T120000Z
DTEND:20190610T170000Z
TRANSP:TRANSPARENT
PRIORITY:0
SUMMARY:Volleyball Workouts
LOCATION:LMS Gym
DESCRIPTION:Groups:\nLHS Volleyball\n\nSchools:\nLiberty High School\nLibe
 rty Middle School\n\nLocation:\nLMS Gym\n\n
URL;VALUE=URI:http://liberty53.tandem.co/index.php?type=view&action=event&
 id=305216
CREATED:20180417T143235Z
LAST-MODIFIED:20190130T173425Z
UID:event_request-305216-liberty53@intand.com
END:VEVENT
END:VCALENDAR
