BEGIN:VCALENDAR
VERSION:2.0
PRODID:-//Intand Corporation//Tandem//EN
METHOD:PUBLISH
BEGIN:VEVENT
DTSTAMP:20260424T022517Z
DTSTART:20181129T130000Z
DTEND:20181129T203000Z
TRANSP:TRANSPARENT
PRIORITY:0
SUMMARY:DMS Orchestra Rehearsal 
LOCATION:DMS Cafeteria
DESCRIPTION:Groups:\nDMS Orchestra\n\nSchools:\nDiscovery Middle School\n\
 nLocation:\nDMS Cafeteria\n\n
URL;VALUE=URI:http://liberty53.tandem.co/index.php?type=view&action=event&
 id=305191
CREATED:20180416T122519Z
LAST-MODIFIED:20180416T123702Z
UID:event_request-305191-liberty53@intand.com
END:VEVENT
END:VCALENDAR
