BEGIN:VCALENDAR
VERSION:2.0
PRODID:-//Intand Corporation//Tandem//EN
METHOD:PUBLISH
BEGIN:VEVENT
DTSTAMP:20260424T023711Z
DTSTART:20190326T230000Z
DTEND:20190327T030000Z
TRANSP:TRANSPARENT
PRIORITY:0
SUMMARY:Liberty Juniors Explosion
LOCATION:DMS Gym
DESCRIPTION:Groups:\nLHS Volleyball\n\nSchools:\nDiscovery Middle School\n
 Liberty High School\n\nLocation:\nDMS Gym\n\n
URL;VALUE=URI:http://liberty53.tandem.co/index.php?type=view&action=event&
 id=305064
CREATED:20180411T192653Z
LAST-MODIFIED:20180412T114107Z
UID:event_request-305064-liberty53@intand.com
END:VEVENT
END:VCALENDAR
