BEGIN:VCALENDAR
VERSION:2.0
PRODID:-//Intand Corporation//Tandem//EN
METHOD:PUBLISH
BEGIN:VEVENT
DTSTAMP:20260424T040820Z
DTSTART:20180813T180000Z
DTEND:20180813T200000Z
TRANSP:TRANSPARENT
PRIORITY:0
SUMMARY:LMS- Active Shooter Training
LOCATION:Liberty Middle School
DESCRIPTION:Schools:\nLiberty Middle School\n\nLocation:\nLiberty Middle S
 chool\n\n
URL;VALUE=URI:http://liberty53.tandem.co/index.php?type=view&action=event&
 id=305007
CREATED:20180411T165052Z
LAST-MODIFIED:20180411T165052Z
UID:event-305007-liberty53@intand.com
END:VEVENT
END:VCALENDAR
