BEGIN:VCALENDAR
VERSION:2.0
PRODID:-//Intand Corporation//Tandem//EN
METHOD:PUBLISH
BEGIN:VEVENT
DTSTAMP:20260424T043413Z
DTSTART:20180327T223000Z
DTEND:20180328T013000Z
TRANSP:TRANSPARENT
PRIORITY:0
SUMMARY:LN WSoc JV/V vs LHS
LOCATION:LNHS Activity Complex
DESCRIPTION:Groups:\nLNHS Soccer - Girls JV/Varsity\n\nSchools:\nLiberty N
 orth High School\n\nLocation:\nLNHS Activity Complex\n\n
URL;VALUE=URI:http://liberty53.tandem.co/index.php?type=view&action=event&
 id=302997
CREATED:20180322T191506Z
LAST-MODIFIED:20180322T191506Z
UID:event-302997-liberty53@intand.com
END:VEVENT
END:VCALENDAR
