BEGIN:VCALENDAR
VERSION:2.0
PRODID:-//Intand Corporation//Tandem//EN
METHOD:PUBLISH
BEGIN:VEVENT
DTSTAMP:20260424T043627Z
DTSTART:20181030T201500Z
DTEND:20181030T222500Z
TRANSP:TRANSPARENT
PRIORITY:0
SUMMARY:LNHS Guys and Dolls Rehearsal
LOCATION:LNHS Performing Arts Theater (GH HVAC)
DESCRIPTION:Groups:\nLNHS Theater\n\nSchools:\nLiberty North High School\n
 \nLocation:\nLNHS Performing Arts Theater (GH HVAC)\n\n
URL;VALUE=URI:http://liberty53.tandem.co/index.php?type=view&action=event&
 id=302608
CREATED:20180321T180055Z
LAST-MODIFIED:20180501T131616Z
UID:event_request-302608-liberty53@intand.com
END:VEVENT
END:VCALENDAR
