BEGIN:VCALENDAR
VERSION:2.0
PRODID:-//Intand Corporation//Tandem//EN
METHOD:PUBLISH
BEGIN:VEVENT
DTSTAMP:20260424T041155Z
DTSTART:20180927T200000Z
DTEND:20180927T220000Z
TRANSP:TRANSPARENT
PRIORITY:0
SUMMARY:8th Volleyball Practice
LOCATION:LMS Gym
DESCRIPTION:Groups:\nLHS 8th Grade Volleyball\nLMS Staff\n\nSchools:\nLibe
 rty Middle School\nLiberty High School\nDiscovery Middle School\n\nLocatio
 n:\nLMS Gym\n\n
URL;VALUE=URI:http://liberty53.tandem.co/index.php?type=view&action=event&
 id=302169
CREATED:20180319T184509Z
LAST-MODIFIED:20180319T184509Z
UID:event-302169-liberty53@intand.com
END:VEVENT
END:VCALENDAR
