BEGIN:VCALENDAR
VERSION:2.0
PRODID:-//Intand Corporation//Tandem//EN
METHOD:PUBLISH
BEGIN:VEVENT
DTSTAMP:20260424T014930Z
DTSTART:20180328T000000Z
DTEND:20180328T013000Z
TRANSP:TRANSPARENT
PRIORITY:0
SUMMARY:LHS - Blue Jay Youth Feeder Soccer Development
LOCATION:LHS Turf Practice Field
DESCRIPTION:Groups:\nLHS Girls Soccer\n\nSchools:\nLiberty High School\n\n
 Location:\nLHS Turf Practice Field\n\n
URL;VALUE=URI:http://liberty53.tandem.co/index.php?type=view&action=event&
 id=302107
CREATED:20180319T182915Z
LAST-MODIFIED:20180419T195527Z
UID:event-302107-liberty53@intand.com
END:VEVENT
END:VCALENDAR
