BEGIN:VCALENDAR
VERSION:2.0
PRODID:-//Intand Corporation//Tandem//EN
METHOD:PUBLISH
BEGIN:VEVENT
DTSTAMP:20260424T023559Z
DTSTART:20190119T130000Z
DTEND:20190119T230000Z
TRANSP:TRANSPARENT
PRIORITY:0
SUMMARY:LHS- Liberty Classic Invitational Debate Tournament
LOCATION:LHS Cafeteria\, LHS Entire Building\, LHS FH Concession Room\, LH
 S Faculty Lounge\, LHS Hall of Fame Room\, LHS Industrial Tech -32\, LHS L
 MC Lab 301\, LHS LMC Main Floor\, LHS Lower Atrium\, LHS Lower Commons\, L
 HS Room 101\, LHS Room 1
DESCRIPTION:Groups:\nLHS Speech / Debate\n\nSchools:\nLiberty High School\
 n\nLocations:\nLHS Cafeteria\nLHS Entire Building\nLHS FH Concession Room\
 nLHS Faculty Lounge\nLHS Hall of Fame Room\nLHS Industrial Tech -32\nLHS L
 MC Lab 301\nLHS LMC Main Floor\nLHS Lower Atrium\nLHS Lower Commons\nLHS R
 oom 101\nLHS Room 102\nLHS Room 104\nLHS Room 110\nLHS Room 200\nLHS Room 
 202\nLHS Room 30\nLHS Room 31\nLHS Room 315\nLHS Room 32\nLHS Room 33\nLHS
  Room 330\nLHS Room 400A\nLHS Room 400B\nLHS Room 401\nLHS Room 402\nLHS R
 oom 403\nLHS Room 404\nLHS Room 405\nLHS Room 406\nLHS Room 408\nLHS Room 
 409\nLHS Room 410\nLHS Room 501\nLHS Room 502\nLHS Room 503\nLHS Room 504\
 nLHS Room 505\nLHS Room 506\nLHS Room 507\nLHS Room 508\nLHS Room 509\nLHS
  Room 512\nLHS Room 513\nLHS Room 514\nLHS Room 515\nLHS Room 600\nLHS Roo
 m 601\nLHS Room 602\nLHS Room 603\nLHS Room 604\nLHS Room 605\nLHS Room 60
 6\nLHS Room 607\nLHS Room 608\nLHS Room 609\nLHS Room 610\nLHS Room 612\nL
 HS Room 613\nLHS Room 700\nLHS Room 701\nLHS Room 702\nLHS Room 703\nLHS R
 oom 704\nLHS Room 705\nLHS Room 706\nLHS Room 707\nLHS Room 806 Studio\nLH
 S Room 807\nLHS Room 808 Band\nLHS Room 815\nLHS Room 900\nLHS Room 901\nL
 HS Room 902\nLHS Room 903\nLHS Room 904\nLHS Room 905\nLHS Room 907\nLHS R
 oom 908\nLHS Room 909\nLHS Room 910\nLHS Room 911\nLHS Room 912\nLHS Room 
 913\nLHS STUCO Room\nLHS Small Group Room\nLHS Teachers Lounge\nLHS The Li
 ttle Theater\n\n
URL;VALUE=URI:http://liberty53.tandem.co/index.php?type=view&action=event&
 id=302053
CREATED:20180317T132046Z
LAST-MODIFIED:20180710T190846Z
UID:event_request-302053-liberty53@intand.com
END:VEVENT
END:VCALENDAR
