BEGIN:VCALENDAR
VERSION:2.0
PRODID:-//Intand Corporation//Tandem//EN
METHOD:PUBLISH
BEGIN:VEVENT
DTSTAMP:20260424T023319Z
DTSTART:20190216T190000Z
DTEND:20190216T230000Z
TRANSP:TRANSPARENT
PRIORITY:0
SUMMARY:DMS Musical Set Painting/ Const.
LOCATION:DMS Cafeteria
DESCRIPTION:Groups:\nDMS Drama\n\nSchools:\nDiscovery Middle School\n\nLoc
 ation:\nDMS Cafeteria\n\n
URL;VALUE=URI:http://liberty53.tandem.co/index.php?type=view&action=event&
 id=301871
CREATED:20180314T141406Z
LAST-MODIFIED:20180314T155115Z
UID:event_request-301871-liberty53@intand.com
END:VEVENT
END:VCALENDAR
