BEGIN:VCALENDAR
VERSION:2.0
PRODID:-//Intand Corporation//Tandem//EN
METHOD:PUBLISH
BEGIN:VEVENT
DTSTAMP:20260424T073821Z
DTSTART:20190406T150000Z
DTEND:20190406T223000Z
TRANSP:TRANSPARENT
PRIORITY:0
SUMMARY:DMS Musical Set Painting/Construction
LOCATION:DMS Cafeteria
DESCRIPTION:Groups:\nDMS Drama\n\nSchools:\nDiscovery Middle School\n\nLoc
 ation:\nDMS Cafeteria\n\n
URL;VALUE=URI:http://liberty53.tandem.co/index.php?type=view&action=event&
 id=301867
CREATED:20180314T141244Z
LAST-MODIFIED:20180314T155157Z
UID:event_request-301867-liberty53@intand.com
END:VEVENT
END:VCALENDAR
