BEGIN:VCALENDAR
VERSION:2.0
PRODID:-//Intand Corporation//Tandem//EN
METHOD:PUBLISH
BEGIN:VEVENT
DTSTAMP:20260424T092641Z
DTSTART:20190404T193000Z
DTEND:20190405T010000Z
TRANSP:TRANSPARENT
PRIORITY:0
SUMMARY:DMS Musical Rehearsal
LOCATION:DMS Cafeteria
DESCRIPTION:Groups:\nDMS Drama\n\nSchools:\nDiscovery Middle School\n\nLoc
 ation:\nDMS Cafeteria\n\n
URL;VALUE=URI:http://liberty53.tandem.co/index.php?type=view&action=event&
 id=301843
CREATED:20180314T140319Z
LAST-MODIFIED:20190206T142631Z
UID:event_request-301843-liberty53@intand.com
END:VEVENT
END:VCALENDAR
