BEGIN:VCALENDAR
VERSION:2.0
PRODID:-//Intand Corporation//Tandem//EN
METHOD:PUBLISH
BEGIN:VEVENT
DTSTAMP:20260424T061710Z
DTSTART:20190124T203000Z
DTEND:20190124T230000Z
TRANSP:TRANSPARENT
PRIORITY:0
SUMMARY:[Cancelled] DMS Musical Auditions
LOCATION:DMS Cafeteria
DESCRIPTION:Groups:\nDMS Drama\n\nSchools:\nDiscovery Middle School\n\nLoc
 ation:\nDMS Cafeteria\n\n
URL;VALUE=URI:http://liberty53.tandem.co/index.php?type=view&action=event&
 id=301807
CREATED:20180314T134620Z
LAST-MODIFIED:20181107T193038Z
UID:event_request-301807-liberty53@intand.com
END:VEVENT
END:VCALENDAR
