BEGIN:VCALENDAR
VERSION:2.0
PRODID:-//Intand Corporation//Tandem//EN
METHOD:PUBLISH
BEGIN:VEVENT
DTSTAMP:20260424T040540Z
DTSTART:20181006T150000Z
DTEND:20181006T220000Z
TRANSP:TRANSPARENT
PRIORITY:0
SUMMARY:DMS Play Set painting/Const
LOCATION:DMS Cafeteria
DESCRIPTION:Groups:\nDMS Drama\n\nSchools:\nDiscovery Middle School\n\nLoc
 ation:\nDMS Cafeteria\n\n
URL;VALUE=URI:http://liberty53.tandem.co/index.php?type=view&action=event&
 id=301799
CREATED:20180314T133231Z
LAST-MODIFIED:20180314T133419Z
UID:event_request-301799-liberty53@intand.com
END:VEVENT
END:VCALENDAR
