BEGIN:VCALENDAR
VERSION:2.0
PRODID:-//Intand Corporation//Tandem//EN
METHOD:PUBLISH
BEGIN:VEVENT
DTSTAMP:20260424T161913Z
DTSTART:20180904T193000Z
DTEND:20180904T220000Z
TRANSP:TRANSPARENT
PRIORITY:0
SUMMARY:DMS Play Rehearsals
LOCATION:DMS Cafeteria
DESCRIPTION:Groups:\nDMS Drama\n\nSchools:\nDiscovery Middle School\n\nLoc
 ation:\nDMS Cafeteria\n\n
URL;VALUE=URI:http://liberty53.tandem.co/index.php?type=view&action=event&
 id=301756
CREATED:20180314T124251Z
LAST-MODIFIED:20180314T131519Z
UID:event_request-301756-liberty53@intand.com
END:VEVENT
END:VCALENDAR
