BEGIN:VCALENDAR
VERSION:2.0
PRODID:-//Intand Corporation//Tandem//EN
METHOD:PUBLISH
BEGIN:VEVENT
DTSTAMP:20260424T061352Z
DTSTART:20181103T120000Z
DTEND:20181104T000000Z
TRANSP:TRANSPARENT
PRIORITY:0
SUMMARY:KC Metro All-District Orchestra Auditions HS/MS
LOCATION:SVMS Computer Lab 300\, SVMS LMC\, SVMS Conference Suite I\, SVMS
  Room 111\, SVMS Room 317\, SVMS South Staff Parking Lot\, SVMS Room 229\,
  SVMS Room 314\, SVMS Gym\, SVMS LGIR\, SVMS Cafeteria\, SVMS Room 315 \, 
 SVMS Room 313\, SVMS Fro
DESCRIPTION:Setup: 6:00 am\nBreakdown: 8:00 pm\n\nGroups:\nHMS Orchestra\n
 DMS Orchestra\nLNHS Orchestra\nLMS Orchestra\nLHS Orchestra\nSVMS Orchestr
 a\n\nSchools:\nHeritage Middle School\nDiscovery Middle School\nLiberty No
 rth High School\nLiberty Middle School\nLiberty High School\nSouth Valley 
 Middle School\n\nLocations:\nSVMS Computer Lab 300\nSVMS LMC\nSVMS Confere
 nce Suite I\nSVMS Room 111\nSVMS Room 317\nSVMS South Staff Parking Lot\nS
 VMS Room 229\nSVMS Room 314\nSVMS Gym\nSVMS LGIR\nSVMS Cafeteria\nSVMS Roo
 m 315 \nSVMS Room 313\nSVMS Front Staff Parking Lot\nSVMS Computer Lab 301
 \n\n
URL;VALUE=URI:http://liberty53.tandem.co/index.php?type=view&action=event&
 id=300967
CREATED:20180302T172947Z
LAST-MODIFIED:20180302T204236Z
UID:event_request-300967-liberty53@intand.com
END:VEVENT
END:VCALENDAR
