BEGIN:VCALENDAR
VERSION:2.0
PRODID:-//Intand Corporation//Tandem//EN
METHOD:PUBLISH
BEGIN:VEVENT
DTSTAMP:20260424T052412Z
DTSTART:20181225T000000Z
DTEND:20181225T030000Z
TRANSP:TRANSPARENT
PRIORITY:0
SUMMARY:[Cancelled] Liberty Juniors
LOCATION:LMS Gym
DESCRIPTION:Groups:\nLHS Volleyball\n\nSchools:\nLiberty Middle School\nLi
 berty High School\n\nLocation:\nLMS Gym\n\n
URL;VALUE=URI:http://liberty53.tandem.co/index.php?type=view&action=event&
 id=299547
CREATED:20180212T202241Z
LAST-MODIFIED:20180411T171004Z
UID:event_request-299547-liberty53@intand.com
END:VEVENT
END:VCALENDAR
