BEGIN:VCALENDAR
VERSION:2.0
PRODID:-//Intand Corporation//Tandem//EN
METHOD:PUBLISH
BEGIN:VEVENT
DTSTAMP:20260424T014926Z
DTSTART:20190201T213000Z
DTEND:20190201T230000Z
TRANSP:TRANSPARENT
PRIORITY:0
SUMMARY:LHS 9 BBALL
LOCATION:LHS Cokely Gym
DESCRIPTION:Groups:\nLHS Boys Basketball Freshman\n\nSchools:\nLiberty Hig
 h School\n\nLocation:\nLHS Cokely Gym\n\n
URL;VALUE=URI:http://liberty53.tandem.co/index.php?type=view&action=event&
 id=298697
CREATED:20180126T165058Z
LAST-MODIFIED:20180129T143829Z
UID:event_request-298697-liberty53@intand.com
END:VEVENT
END:VCALENDAR
