BEGIN:VCALENDAR
VERSION:2.0
PRODID:-//Intand Corporation//Tandem//EN
METHOD:PUBLISH
BEGIN:VEVENT
DTSTAMP:20260424T023607Z
DTSTART:20190414T000000Z
DTEND:20190414T020000Z
TRANSP:TRANSPARENT
PRIORITY:0
SUMMARY: SSC - Oasis of Love Ministries - Set Up
LOCATION:SS Conference Room
DESCRIPTION:Groups:\nOasis of Love Christian Center\n\nSchools:\nDistrict 
 Administration Center\n\nLocation:\nSS Conference Room\n\n
URL;VALUE=URI:http://liberty53.tandem.co/index.php?type=view&action=event&
 id=294353
CREATED:20171012T142843Z
LAST-MODIFIED:20171012T142843Z
UID:event-294353-liberty53@intand.com
END:VEVENT
END:VCALENDAR
