BEGIN:VCALENDAR
VERSION:2.0
PRODID:-//Intand Corporation//Tandem//EN
METHOD:PUBLISH
BEGIN:VEVENT
DTSTAMP:20260424T040819Z
DTSTART:20181227T004500Z
DTEND:20181227T030000Z
TRANSP:TRANSPARENT
PRIORITY:0
SUMMARY:[Cancelled] SSC - Oasis of Love Ministries
LOCATION:SS Conference Room
DESCRIPTION:Groups:\nOasis of Love Christian Center\n\nSchools:\nDistrict 
 Administration Center\n\nLocation:\nSS Conference Room\n\n
URL;VALUE=URI:http://liberty53.tandem.co/index.php?type=view&action=event&
 id=275948
CREATED:20170628T122102Z
LAST-MODIFIED:20170905T154954Z
UID:event-275948-liberty53@intand.com
END:VEVENT
END:VCALENDAR
