BEGIN:VCALENDAR
VERSION:2.0
PRODID:-//Intand Corporation//Tandem//EN
METHOD:PUBLISH
BEGIN:VEVENT
DTSTAMP:20260424T024311Z
DTSTART:20180821T180000Z
DTEND:20180821T190000Z
TRANSP:TRANSPARENT
PRIORITY:0
SUMMARY:[Cancelled] AD Eclipse Day - Green Top 
LOCATION:Alexander Doniphan Elementary
DESCRIPTION:Groups:\nADE Staff\nADE Parent\nADE PTA\n\nSchools:\nAlexander
  Doniphan Elementary\n\nLocation:\nAlexander Doniphan Elementary\n\n
URL;VALUE=URI:http://liberty53.tandem.co/index.php?type=view&action=event&
 id=274750
CREATED:20170614T142009Z
LAST-MODIFIED:20180411T195405Z
UID:event-274750-liberty53@intand.com
END:VEVENT
END:VCALENDAR
